Workbook

Sheet 1| Brainstorming
B2: Projektspezifische Kriterien: BRAINSTORMING | F2: Prioritäten
F3: 0 | G3: Aktuell nicht zu betrachten
B4: Projekteinordnung | F4: 1 | G4: Zu betrachtendes Kriterium
F5: 2 | G5: Dringend zu betrachtendes Kriterium
B6: Projektname | F6: 3 | G6: Zu fokussierendes Kriterium
B7: Projektart | C7: Neubau / Bestand
B8: Projektspezifische Sicherheits-anforderungen | C8: Ja / Nein
B9: Komplexität der Bauaufgabe | C9: weniger komplex / komplex / äußerst komplex
B10: Projektsorte nach Bauvolumen | C10: ca. Bauinvestitionsvolumen
B11: Projektleistungen | C11: Planen / Bauen / Planen & Bauen / inkl. Betrieb / inkl. Finanzierung
B13: Kriteriengruppe | C13: Projektspezifische Kriterien | D13: Priorität [0, 1, 2, 3]
B14: 1 | Stakeholder | C14: Bspw. Berücksichtigung des Denkmalschutzes | G14: Eingegebene Kriterien inkl. Prioritäten werden automatisch in die Nutzwertanalyse übernommen!
B15: 1 | Stakeholder | C15: Bspw. Berücksichtigung anstehender Schadstoffsanierungen
B16: 1 | Stakeholder
B17: 1 | Stakeholder
B18: 1 | Stakeholder
B20: 2 | Planung
B21: 2 | Planung
B22: 2 | Planung
B23: 2 | Planung
B24: 2 | Planung
B26: 3 | Vergabeverfahren
B27: 3 | Vergabeverfahren
B28: 3 | Vergabeverfahren
B29: 3 | Vergabeverfahren
... B46: 4 | Projektbesonderheiten

Sheet 2 | Nutzwertanalyse
B2: Auswahl Beschaffungsmodelle: Nutzwertanalyse | R2: Schritt 2
U3: erfüllt
D4: Priorisierung | U4: neutral/irrelevant/keine Aussage
F5: Planen | H5: Bauen | J5: Planen+Bauen | N5: Planen+Bauen+Betrieb | Q5: Planen+Bauen +Betrieb +Finanzierung | U5: in Teilen erfüllt
C6: = Scroll-Down Menü | U6: nicht erfülllt
D7: [Nr.] | F7: EGV | G7: GP | H7: EGV | I7: GU [ab Lph 8] | J7: GU [ab Lph 5] | K7: TU/SEP | L7: MPV | M7: KoPa | N7: [TU] | O7: ÖPP | P7: KoPa | Q7: ÖPP | R7: KoPa
B8: 1 | C8: Stakeholder | D8: [0, 1, 2, 3] | E8: Kommentar
B9: A | C9: Einbeziehung des Bauunternehmens ab Lph 5 HOAI | H9: =IF($C$9="Einbeziehung des Bauunternehmens ab Lph 1 HOAI",0,IF($C$9="Einbeziehung des Bauunternehmens ab Lph 3 HOAI",0,IF($C$9="Einbeziehung des Bauunternehmens ab Lph 5 HOAI",0,IF($C$9="Einbeziehung des Bauunternehmens ab Lph 7 HOAI",1,"")))) -> 0 | I9: =IF($C$9="Einbeziehung des Bauunternehmens ab Lph 1 HOAI",0,IF($C$9="Einbeziehung des Bauunternehmens ab Lph 3 HOAI",0,IF($C$9="Einbeziehung des Bauunternehmens ab Lph 5 HOAI",0,IF($C$9="Einbeziehung des Bauunternehmens ab Lph 7 HOAI",1,"")))) -> 0 | J9: =IF($C$9="Einbeziehung des Bauunternehmens ab Lph 1 HOAI",0,IF($C$9="Einbeziehung des Bauunternehmens ab Lph 3 HOAI",0,IF($C$9="Einbeziehung des Bauunternehmens ab Lph 5 HOAI",2,IF($C$9="Einbeziehung des Bauunternehmens ab Lph 7 HOAI",0,"")))) -> 2 | K9: =IF($C$9="Einbeziehung des Bauunternehmens ab Lph 1 HOAI",0,IF($C$9="Einbeziehung des Bauunternehmens ab Lph 3 HOAI",2,IF($C$9="Einbeziehung des Bauunternehmens ab Lph 5 HOAI",0,IF($C$9="Einbeziehung des Bauunternehmens ab Lph 7 HOAI",0,"")))) -> 0 | L9: =IF($C$9="Einbeziehung des Bauunternehmens ab Lph 1 HOAI",2,IF($C$9="Einbeziehung des Bauunternehmens ab Lph 3 HOAI",0,IF($C$9="Einbeziehung des Bauunternehmens ab Lph 5 HOAI",0,IF($C$9="Einbeziehung des Bauunternehmens ab Lph 7 HOAI",0,"")))) -> 0 | M9: =IF($C$9="Einbeziehung des Bauunternehmens ab Lph 1 HOAI",2,IF($C$9="Einbeziehung des Bauunternehmens ab Lph 3 HOAI",0,IF($C$9="Einbeziehung des Bauunternehmens ab Lph 5 HOAI",0,IF($C$9="Einbeziehung des Bauunternehmens ab Lph 7 HOAI",0,"")))) -> 0 | N9: =IF($C$9="Einbeziehung des Bauunternehmens ab Lph 1 HOAI",0,IF($C$9="Einbeziehung des Bauunternehmens ab Lph 3 HOAI",2,IF($C$9="Einbeziehung des Bauunternehmens ab Lph 5 HOAI",0,IF($C$9="Einbeziehung des Bauunternehmens ab Lph 7 HOAI",0,"")))) -> 0 | O9: =IF($C$9="Einbeziehung des Bauunternehmens ab Lph 1 HOAI",0,IF($C$9="Einbeziehung des Bauunternehmens ab Lph 3 HOAI",2,IF($C$9="Einbeziehung des Bauunternehmens ab Lph 5 HOAI",0,IF($C$9="Einbeziehung des Bauunternehmens ab Lph 7 HOAI",0,"")))) -> 0 | P9: =IF($C$9="Einbeziehung des Bauunternehmens ab Lph 1 HOAI",2,IF($C$9="Einbeziehung des Bauunternehmens ab Lph 3 HOAI",0,IF($C$9="Einbeziehung des Bauunternehmens ab Lph 5 HOAI",0,IF($C$9="Einbeziehung des Bauunternehmens ab Lph 7 HOAI",0,"")))) -> 0 | Q9: =IF($C$9="Einbeziehung des Bauunternehmens ab Lph 1 HOAI",0,IF($C$9="Einbeziehung des Bauunternehmens ab Lph 3 HOAI",2,IF($C$9="Einbeziehung des Bauunternehmens ab Lph 5 HOAI",0,IF($C$9="Einbeziehung des Bauunternehmens ab Lph 7 HOAI",0,"")))) -> 0 | R9: =IF($C$9="Einbeziehung des Bauunternehmens ab Lph 1 HOAI",2,IF($C$9="Einbeziehung des Bauunternehmens ab Lph 3 HOAI",0,IF($C$9="Einbeziehung des Bauunternehmens ab Lph 5 HOAI",0,IF($C$9="Einbeziehung des Bauunternehmens ab Lph 7 HOAI",0,"")))) -> 0
B10: B | C10: Einbeziehung des Planers bis Lph 5 HOAI | F10: =IF($C$10="Einbeziehung des Planers bis Lph 3 HOAI",2,IF($C$10="Einbeziehung des Planers bis Lph 5 HOAI",2,IF($C$10="Einbeziehung des Planers über alle Phasen der HOAI",2,0))) -> 2 | G10: =IF($C$10="Einbeziehung des Planers bis Lph 3 HOAI",2,IF($C$10="Einbeziehung des Planers bis Lph 5 HOAI",2,IF($C$10="Einbeziehung des Planers über alle Phasen der HOAI",2,0))) -> 2 | H10: =IF($C$10="Einbeziehung des Planers bis Lph 3 HOAI",2,IF($C$10="Einbeziehung des Planers bis Lph 5 HOAI",2,IF($C$10="Einbeziehung des Planers über alle Phasen der HOAI",2,0))) -> 2 | I10: =IF($C$10="Einbeziehung des Planers bis Lph 3 HOAI",2,IF($C$10="Einbeziehung des Planers bis Lph 5 HOAI",2,IF($C$10="Einbeziehung des Planers über alle Phasen der HOAI",2,0))) -> 2 | J10: =IF($C$10="Einbeziehung des Planers bis Lph 3 HOAI",2,IF($C$10="Einbeziehung des Planers bis Lph 5 HOAI",1,IF($C$10="Einbeziehung des Planers über alle Phasen der HOAI",0,0))) -> 1 | K10: =IF($C$10="Einbeziehung des Planers bis Lph 3 HOAI",0,IF($C$10="Einbeziehung des Planers bis Lph 5 HOAI",0,IF($C$10="Einbeziehung des Planers über alle Phasen der HOAI",0,0))) -> 0 | L10: =IF($C$10="Einbeziehung des Planers bis Lph 3 HOAI",0,IF($C$10="Einbeziehung des Planers bis Lph 5 HOAI",0,IF($C$10="Einbeziehung des Planers über alle Phasen der HOAI",0,0))) -> 0 | M10: =IF($C$10="Einbeziehung des Planers bis Lph 3 HOAI",0,IF($C$10="Einbeziehung des Planers bis Lph 5 HOAI",0,IF($C$10="Einbeziehung des Planers über alle Phasen der HOAI",0,0))) -> 0 | N10: =IF($C$10="Einbeziehung des Planers bis Lph 3 HOAI",0,IF($C$10="Einbeziehung des Planers bis Lph 5 HOAI",0,IF($C$10="Einbeziehung des Planers über alle Phasen der HOAI",0,0))) -> 0 | O10: =IF($C$10="Einbeziehung des Planers bis Lph 3 HOAI",0,IF($C$10="Einbeziehung des Planers bis Lph 5 HOAI",0,IF($C$10="Einbeziehung des Planers über alle Phasen der HOAI",0,0))) -> 0 | P10: =IF($C$10="Einbeziehung des Planers bis Lph 3 HOAI",0,IF($C$10="Einbeziehung des Planers bis Lph 5 HOAI",0,IF($C$10="Einbeziehung des Planers über alle Phasen der HOAI",0,0))) -> 0 | Q10: =IF($C$10="Einbeziehung des Planers bis Lph 3 HOAI",0,IF($C$10="Einbeziehung des Planers bis Lph 5 HOAI",0,IF($C$10="Einbeziehung des Planers über alle Phasen der HOAI",0,0))) -> 0 | R10: =IF($C$10="Einbeziehung des Planers bis Lph 3 HOAI",0,IF($C$10="Einbeziehung des Planers bis Lph 5 HOAI",0,IF($C$10="Einbeziehung des Planers über alle Phasen der HOAI",0,0))) -> 0
B11: C | C11: Geringe Personalkapazitäten für die Planungsphase beim Auftraggeber vorhanden | F11: =IF($C$11="Geringe Personalkapazitäten für die Planungsphase beim Auftraggeber vorhanden",2,IF($C$11="Mittlere Personalkapazitäten für die Planungsphase beim Auftraggeber vorhanden","",IF($C$11="Hohe Personalkapazitäten für die Planungsphase beim Auftraggeber vorhanden",0,0))) -> 2 | G11: =IF($C$11="Geringe Personalkapazitäten für die Planungsphase beim Auftraggeber vorhanden",2,IF($C$11="Mittlere Personalkapazitäten für die Planungsphase beim Auftraggeber vorhanden",1,IF($C$11="Hohe Personalkapazitäten für die Planungsphase beim Auftraggeber vorhanden","",0))) -> 2 | H11: =IF($C$11="Geringe Personalkapazitäten für die Planungsphase beim Auftraggeber vorhanden",2,IF($C$11="Mittlere Personalkapazitäten für die Planungsphase beim Auftraggeber vorhanden","",IF($C$11="Hohe Personalkapazitäten für die Planungsphase beim Auftraggeber vorhanden","",0))) -> 2 | I11: =IF($C$11="Geringe Personalkapazitäten für die Planungsphase beim Auftraggeber vorhanden",2,IF($C$11="Mittlere Personalkapazitäten für die Planungsphase beim Auftraggeber vorhanden",1,IF($C$11="Hohe Personalkapazitäten für die Planungsphase beim Auftraggeber vorhanden","",0))) -> 2 | J11: =IF($C$11="Geringe Personalkapazitäten für die Planungsphase beim Auftraggeber vorhanden",2,IF($C$11="Mittlere Personalkapazitäten für die Planungsphase beim Auftraggeber vorhanden",1,IF($C$11="Hohe Personalkapazitäten für die Planungsphase beim Auftraggeber vorhanden","",0))) -> 2 | K11: =IF($C$11="Geringe Personalkapazitäten für die Planungsphase beim Auftraggeber vorhanden","",IF($C$11="Mittlere Personalkapazitäten für die Planungsphase beim Auftraggeber vorhanden",2,IF($C$11="Hohe Personalkapazitäten für die Planungsphase beim Auftraggeber vorhanden",2,0))) | L11: =IF($C$11="Geringe Personalkapazitäten für die Planungsphase beim Auftraggeber vorhanden",2,IF($C$11="Mittlere Personalkapazitäten für die Planungsphase beim Auftraggeber vorhanden","",IF($C$11="Hohe Personalkapazitäten für die Planungsphase beim Auftraggeber vorhanden","",0))) -> 2 | M11: =IF($C$11="Geringe Personalkapazitäten für die Planungsphase beim Auftraggeber vorhanden","",IF($C$11="Mittlere Personalkapazitäten für die Planungsphase beim Auftraggeber vorhanden",2,IF($C$11="Hohe Personalkapazitäten für die Planungsphase beim Auftraggeber vorhanden",2,0))) | N11: =IF($C$11="Geringe Personalkapazitäten für die Planungsphase beim Auftraggeber vorhanden","",IF($C$11="Mittlere Personalkapazitäten für die Planungsphase beim Auftraggeber vorhanden",2,IF($C$11="Hohe Personalkapazitäten für die Planungsphase beim Auftraggeber vorhanden",2,0))) | O11: =IF($C$11="Geringe Personalkapazitäten für die Planungsphase beim Auftraggeber vorhanden","",IF($C$11="Mittlere Personalkapazitäten für die Planungsphase beim Auftraggeber vorhanden",2,IF($C$11="Hohe Personalkapazitäten für die Planungsphase beim Auftraggeber vorhanden",2,0))) | P11: =IF($C$11="Geringe Personalkapazitäten für die Planungsphase beim Auftraggeber vorhanden","",IF($C$11="Mittlere Personalkapazitäten für die Planungsphase beim Auftraggeber vorhanden",2,IF($C$11="Hohe Personalkapazitäten für die Planungsphase beim Auftraggeber vorhanden",2,0))) | Q11: =IF($C$11="Geringe Personalkapazitäten für die Planungsphase beim Auftraggeber vorhanden","",IF($C$11="Mittlere Personalkapazitäten für die Planungsphase beim Auftraggeber vorhanden",2,IF($C$11="Hohe Personalkapazitäten für die Planungsphase beim Auftraggeber vorhanden",2,0))) | R11: =IF($C$11="Geringe Personalkapazitäten für die Planungsphase beim Auftraggeber vorhanden","",IF($C$11="Mittlere Personalkapazitäten für die Planungsphase beim Auftraggeber vorhanden",2,IF($C$11="Hohe Personalkapazitäten für die Planungsphase beim Auftraggeber vorhanden",2,0)))
B12: D | C12: Mittlere Personalkapazitäten für die Projektausführung beim Auftraggeber | F12: =IF($C$12="Geringe Personalkapazitäten für die Projektausführung beim Auftraggeber",2,IF($C$12="Mittlere Personalkapazitäten für die Projektausführung beim Auftraggeber","",IF($C$12="Hohe Personalkapazitäten für die Projektausführung beim Auftraggeber","",0))) | G12: =IF($C$12="Geringe Personalkapazitäten für die Projektausführung beim Auftraggeber","",IF($C$12="Mittlere Personalkapazitäten für die Projektausführung beim Auftraggeber",2,IF($C$12="Hohe Personalkapazitäten für die Projektausführung beim Auftraggeber",2,0))) -> 2 | H12: =IF($C$12="Geringe Personalkapazitäten für die Projektausführung beim Auftraggeber",2,IF($C$12="Mittlere Personalkapazitäten für die Projektausführung beim Auftraggeber","",IF($C$12="Hohe Personalkapazitäten für die Projektausführung beim Auftraggeber",1,0))) | I12: =IF($C$12="Geringe Personalkapazitäten für die Projektausführung beim Auftraggeber","",IF($C$12="Mittlere Personalkapazitäten für die Projektausführung beim Auftraggeber",2,IF($C$12="Hohe Personalkapazitäten für die Projektausführung beim Auftraggeber",2,0))) -> 2 | J12: =IF($C$12="Geringe Personalkapazitäten für die Projektausführung beim Auftraggeber","",IF($C$12="Mittlere Personalkapazitäten für die Projektausführung beim Auftraggeber",2,IF($C$12="Hohe Personalkapazitäten für die Projektausführung beim Auftraggeber",2,0))) -> 2 | K12: =IF($C$12="Geringe Personalkapazitäten für die Projektausführung beim Auftraggeber","",IF($C$12="Mittlere Personalkapazitäten für die Projektausführung beim Auftraggeber",2,IF($C$12="Hohe Personalkapazitäten für die Projektausführung beim Auftraggeber",2,0))) -> 2 | L12: =IF($C$12="Geringe Personalkapazitäten für die Projektausführung beim Auftraggeber",2,IF($C$12="Mittlere Personalkapazitäten für die Projektausführung beim Auftraggeber","",IF($C$12="Hohe Personalkapazitäten für die Projektausführung beim Auftraggeber","",0))) | M12: =IF($C$12="Geringe Personalkapazitäten für die Projektausführung beim Auftraggeber","",IF($C$12="Mittlere Personalkapazitäten für die Projektausführung beim Auftraggeber",2,IF($C$12="Hohe Personalkapazitäten für die Projektausführung beim Auftraggeber",2,0))) -> 2 | N12: =IF($C$12="Geringe Personalkapazitäten für die Projektausführung beim Auftraggeber","",IF($C$12="Mittlere Personalkapazitäten für die Projektausführung beim Auftraggeber",2,IF($C$12="Hohe Personalkapazitäten für die Projektausführung beim Auftraggeber",2,0))) -> 2 | O12: =IF($C$12="Geringe Personalkapazitäten für die Projektausführung beim Auftraggeber","",IF($C$12="Mittlere Personalkapazitäten für die Projektausführung beim Auftraggeber",2,IF($C$12="Hohe Personalkapazitäten für die Projektausführung beim Auftraggeber",2,0))) -> 2 | P12: =IF($C$12="Geringe Personalkapazitäten für die Projektausführung beim Auftraggeber","",IF($C$12="Mittlere Personalkapazitäten für die Projektausführung beim Auftraggeber",2,IF($C$12="Hohe Personalkapazitäten für die Projektausführung beim Auftraggeber",2,0))) -> 2 | Q12: =IF($C$12="Geringe Personalkapazitäten für die Projektausführung beim Auftraggeber","",IF($C$12="Mittlere Personalkapazitäten für die Projektausführung beim Auftraggeber",2,IF($C$12="Hohe Personalkapazitäten für die Projektausführung beim Auftraggeber",2,0))) -> 2 | R12: =IF($C$12="Geringe Personalkapazitäten für die Projektausführung beim Auftraggeber","",IF($C$12="Mittlere Personalkapazitäten für die Projektausführung beim Auftraggeber",2,IF($C$12="Hohe Personalkapazitäten für die Projektausführung beim Auftraggeber",2,0))) -> 2
B13: E | C13: Einflussnahme von weiteren Interessengruppen [bspw. Anwohner, Umwelt, …] | F13: 2 | G13: 2 | H13: 2 | I13: 1 | J13: 0 | K13: 0 | L13: 1 | M13: 0 | N13: 0 | O13: 0 | P13: 0 | Q13: 0 | R13: 0
B14: F | C14: =IF('1| Brainstorming'!$C14="","",'1| Brainstorming'!$C14) -> Bspw. Berücksichtigung des Denkmalschutzes | D14: ='1| Brainstorming'!$D14 -> 0 | F14: 0 | G14: 0 | H14: 0 | I14: 0 | J14: 0 | K14: 0 | L14: 0 | M14: 0 | N14: 0 | O14: 0 | P14: 0 | Q14: 0 | R14: 0
B15: D | C15: =IF('1| Brainstorming'!$C15="","",'1| Brainstorming'!$C15) -> Bspw. Berücksichtigung anstehender Schadstoffsanierungen | D15: ='1| Brainstorming'!$D15 -> 0 | F15: 0 | G15: 0 | H15: 0 | I15: 0 | J15: 0 | K15: 0 | L15: 0 | M15: 0 | N15: 0 | O15: 0 | P15: 0 | Q15: 0 | R15: 0
B16: E | C16: =IF('1| Brainstorming'!$C16="","",'1| Brainstorming'!$C16) | D16: ='1| Brainstorming'!$D16 -> 0
B17: F | C17: =IF('1| Brainstorming'!$C17="","",'1| Brainstorming'!$C17) | D17: ='1| Brainstorming'!$D17 -> 0
B18: D | C18: =IF('1| Brainstorming'!$C18="","",'1| Brainstorming'!$C18) | D18: ='1| Brainstorming'!$D18 -> 0
E19: Summe je Kategorie | F19: =$D9*SUM(F$9:F$9)+$D10*SUM(F$10:F$10)+$D11*SUM(F$11:F$11)+$D12*SUM(F$12:F$12)+$D13*SUM(F$13)+$D14*SUM(F$14)+$D15*SUM(F$15)+$D16*SUM(F$16)+$D17*SUM(F$17)+$D18*SUM(F$18) -> 0 | G19: =$D9*SUM(G$9:G$9)+$D10*SUM(G$10:G$10)+$D11*SUM(G$11:G$11)+$D12*SUM(G$12:G$12)+$D13*SUM(G$13)+$D14*SUM(G$14)+$D15*SUM(G$15)+$D16*SUM(G$16)+$D17*SUM(G$17)+$D18*SUM(G$18) -> 0 | H19: =$D9*SUM(H$9:H$9)+$D10*SUM(H$10:H$10)+$D11*SUM(H$11:H$11)+$D12*SUM(H$12:H$12)+$D13*SUM(H$13)+$D14*SUM(H$14)+$D15*SUM(H$15)+$D16*SUM(H$16)+$D17*SUM(H$17)+$D18*SUM(H$18) -> 0 | I19: =$D9*SUM(I$9:I$9)+$D10*SUM(I$10:I$10)+$D11*SUM(I$11:I$11)+$D12*SUM(I$12:I$12)+$D13*SUM(I$13)+$D14*SUM(I$14)+$D15*SUM(I$15)+$D16*SUM(I$16)+$D17*SUM(I$17)+$D18*SUM(I$18) -> 0 | J19: =$D9*SUM(J$9:J$9)+$D10*SUM(J$10:J$10)+$D11*SUM(J$11:J$11)+$D12*SUM(J$12:J$12)+$D13*SUM(J$13)+$D14*SUM(J$14)+$D15*SUM(J$15)+$D16*SUM(J$16)+$D17*SUM(J$17)+$D18*SUM(J$18) -> 0 | K19: =$D9*SUM(K$9:K$9)+$D10*SUM(K$10:K$10)+$D11*SUM(K$11:K$11)+$D12*SUM(K$12:K$12)+$D13*SUM(K$13)+$D14*SUM(K$14)+$D15*SUM(K$15)+$D16*SUM(K$16)+$D17*SUM(K$17)+$D18*SUM(K$18) -> 0 | L19: =$D9*SUM(L$9:L$9)+$D10*SUM(L$10:L$10)+$D11*SUM(L$11:L$11)+$D12*SUM(L$12:L$12)+$D13*SUM(L$13)+$D14*SUM(L$14)+$D15*SUM(L$15)+$D16*SUM(L$16)+$D17*SUM(L$17)+$D18*SUM(L$18) -> 0 | M19: =$D9*SUM(M$9:M$9)+$D10*SUM(M$10:M$10)+$D11*SUM(M$11:M$11)+$D12*SUM(M$12:M$12)+$D13*SUM(M$13)+$D14*SUM(M$14)+$D15*SUM(M$15)+$D16*SUM(M$16)+$D17*SUM(M$17)+$D18*SUM(M$18) -> 0 | ... R19: =$D9*SUM(R$9:R$9)+$D10*SUM(R$10:R$10)+$D11*SUM(R$11:R$11)+$D12*SUM(R$12:R$12)+$D13*SUM(R$13)+$D14*SUM(R$14)+$D15*SUM(R$15)+$D16*SUM(R$16)+$D17*SUM(R$17)+$D18*SUM(R$18) -> 0
B20: 2 | C20: Planung
B21: A | C21: Beschleunigung durch Optimierung der Planungs- und Bauphase durch das Bauunternehmen gewünscht | F21: 0 | G21: 0 | H21: 0 | I21: 0 | J21: 1 | K21: 2 | L21: 2 | M21: 2 | N21: 2 | O21: 2 | P21: 2 | Q21: 2
B22: B | C22: Flexibilität hinsichtlich Planungsänderungen gewünscht | F22: 2 | G22: 1 | H22: 2 | I22: 1 | J22: 1 | K22: 0 | L22: 1 | M22: 0 | N22: 0 | O22: 0 | P22: 0 | Q22: 0 | R22: 0
B23: C | C23: Optimierungsmöglichkeiten der Planung durch das Bauunternehmen vorhanden | F23: 0 | G23: 0 | H23: 0 | I23: 1 | J23: 1 | K23: 2 | L23: 2 | M23: 2 | N23: 2 | O23: 2 | P23: 2 | Q23: 2 | R23: 2
B24: D | C24: Einbindung von Innovationen durch das Bauunternehmen vorhanden | F24: 0 | G24: 0 | H24: 0 | I24: 0 | J24: 1 | K24: 2 | L24: 2 | M24: 2 | N24: 2 | O24: 2 | P24: 2 | Q24: 2 | R24: 2
B25: E | C25: Einfache Übertragung von Nachhaltigkeitsanforderungen | F25: 1 | G25: 1 | H25: 1 | I25: 1 | J25: 1 | K25: 2 | L25: 2 | M25: 2 | N25: 2 | O25: 2 | P25: 2 | Q25: 2 | R25: 2
B26: F | C26: =IF('1| Brainstorming'!$C20="","",'1| Brainstorming'!$C20) | D26: ='1| Brainstorming'!$D20 -> 0
B27: G | C27: =IF('1| Brainstorming'!$C21="","",'1| Brainstorming'!$C21) | D27: ='1| Brainstorming'!$D21 -> 0
B28: H | C28: =IF('1| Brainstorming'!$C22="","",'1| Brainstorming'!$C22) | D28: ='1| Brainstorming'!$D22 -> 0
B29: I | C29: =IF('1| Brainstorming'!$C23="","",'1| Brainstorming'!$C23) | D29: ='1| Brainstorming'!$D23 -> 0
B30: J | C30: =IF('1| Brainstorming'!$C24="","",'1| Brainstorming'!$C24) | D30: ='1| Brainstorming'!$D24 -> 0
E31: Summe je Kategorie | F31: =$D21*SUM(F$21)+$D22*SUM(F$22)+$D23*SUM(F$23)+$D24*SUM(F$24)+$D25*SUM(F$25)+$D26*SUM(F$26)+$D27*SUM(F$27)+$D28*SUM(F$28)+$D29*SUM(F$29)+$D30*SUM(F$30) -> 0 | G31: =$D21*SUM(G$21)+$D22*SUM(G$22)+$D23*SUM(G$23)+$D24*SUM(G$24)+$D25*SUM(G$25)+$D26*SUM(G$26)+$D27*SUM(G$27)+$D28*SUM(G$28)+$D29*SUM(G$29)+$D30*SUM(G$30) -> 0 | H31: =$D21*SUM(H$21)+$D22*SUM(H$22)+$D23*SUM(H$23)+$D24*SUM(H$24)+$D25*SUM(H$25)+$D26*SUM(H$26)+$D27*SUM(H$27)+$D28*SUM(H$28)+$D29*SUM(H$29)+$D30*SUM(H$30) -> 0 | I31: =$D21*SUM(I$21)+$D22*SUM(I$22)+$D23*SUM(I$23)+$D24*SUM(I$24)+$D25*SUM(I$25)+$D26*SUM(I$26)+$D27*SUM(I$27)+$D28*SUM(I$28)+$D29*SUM(I$29)+$D30*SUM(I$30) -> 0 | J31: =$D21*SUM(J$21)+$D22*SUM(J$22)+$D23*SUM(J$23)+$D24*SUM(J$24)+$D25*SUM(J$25)+$D26*SUM(J$26)+$D27*SUM(J$27)+$D28*SUM(J$28)+$D29*SUM(J$29)+$D30*SUM(J$30) -> 0 | K31: =$D21*SUM(K$21)+$D22*SUM(K$22)+$D23*SUM(K$23)+$D24*SUM(K$24)+$D25*SUM(K$25)+$D26*SUM(K$26)+$D27*SUM(K$27)+$D28*SUM(K$28)+$D29*SUM(K$29)+$D30*SUM(K$30) -> 0 | L31: =$D21*SUM(L$21)+$D22*SUM(L$22)+$D23*SUM(L$23)+$D24*SUM(L$24)+$D25*SUM(L$25)+$D26*SUM(L$26)+$D27*SUM(L$27)+$D28*SUM(L$28)+$D29*SUM(L$29)+$D30*SUM(L$30) -> 0 | M31: =$D21*SUM(M$21)+$D22*SUM(M$22)+$D23*SUM(M$23)+$D24*SUM(M$24)+$D25*SUM(M$25)+$D26*SUM(M$26)+$D27*SUM(M$27)+$D28*SUM(M$28)+$D29*SUM(M$29)+$D30*SUM(M$30) -> 0 | ... R31: =$D21*SUM(R$21)+$D22*SUM(R$22)+$D23*SUM(R$23)+$D24*SUM(R$24)+$D25*SUM(R$25)+$D26*SUM(R$26)+$D27*SUM(R$27)+$D28*SUM(R$28)+$D29*SUM(R$29)+$D30*SUM(R$30) -> 0
B32: 3 | C32: Vergabeverfahren
B33: A | C33: Hohe Anzahl der Bieter im Wettbewerb | F33: 2 | G33: 1 | H33: 2 | I33: 1 | J33: 1 | K33: 0 | L33: 0 | M33: 0 | N33: 0 | O33: 0 | P33: 0 | Q33: 0 | R33: 0
B34: B | C34: Kurze Dauer des Vergabeverfahrens | F34: 1 | G34: 2 | H34: 1 | I34: 2 | J34: 2 | K34: 1 | L34: 2
B35: C | C35: Berücksichtigung der Betriebskosten im Vergabemodell gewünscht | F35: 0 | G35: 0 | H35: 0 | I35: 0 | J35: 0 | K35: 0 | L35: 0 | M35: 0 | N35: 2 | O35: 2 | P35: 2 | Q35: 2 | R35: 2
B36: D | C36: Risikoübertragung zwischen den Vertragspartnern gewünscht | F36: 0 | G36: 1 | H36: 0 | I36: 1 | J36: 1 | K36: 2 | L36: 2 | M36: 2 | N36: 2 | O36: 2 | P36: 2 | Q36: 2 | R36: 2
B37: E | C37: Flexibilität im Vergabeverfahren für die AN gewünscht | F37: 2 | G37: 1 | H37: 2 | I37: 0 | J37: 0 | K37: 0 | L37: 1 | M37: 1 | N37: 0 | O37: 0 | P37: 1 | Q37: 0 | R37: 1
B38: F | C38: Gute Kontrollmöglichkeiten nach Zuschlag durch den AG | F38: 2 | G38: 1 | H38: 2 | I38: 1 | J38: 0 | K38: 0 | L38: 1 | M38: 1 | N38: 0 | O38: 0 | P38: 2 | Q38: 0 | R38: 2
B39: G | C39: =IF('1| Brainstorming'!$C26="","",'1| Brainstorming'!$C26) | D39: ='1| Brainstorming'!$D26 -> 0
B40: H | C40: =IF('1| Brainstorming'!$C27="","",'1| Brainstorming'!$C27) | D40: ='1| Brainstorming'!$D27 -> 0
B41: I | C41: =IF('1| Brainstorming'!$C28="","",'1| Brainstorming'!$C28) | D41: ='1| Brainstorming'!$D28 -> 0
...
