Workbook

Sheet 1| Brainstorming
B2: Projektspezifische Kriterien: BRAINSTORMING | F2: Prioritäten
F3: 0 | G3: Aktuell nicht zu betrachten
B4: Projekteinordnung | F4: 1 | G4: Zu betrachtendes Kriterium
F5: 2 | G5: Dringend zu betrachtendes Kriterium
B6: Projektname | F6: 3 | G6: Zu fokussierendes Kriterium
B7: Projektart | C7: Neubau / Bestand
B8: Projektspezifische Sicherheits-anforderungen | C8: Ja / Nein
B9: Komplexität der Bauaufgabe | C9: weniger komplex / komplex / äußerst komplex
B10: Projektsorte nach Bauvolumen | C10: ca. Bauinvestitionsvolumen
B11: Projektleistungen | C11: Planen / Bauen / Planen & Bauen / inkl. Betrieb / inkl. Finanzierung
B13: Kriteriengruppe | C13: Projektspezifische Kriterien | D13: Priorität [0, 1, 2, 3]
B14: 1 | Stakeholder | C14: Bspw. Berücksichtigung des Denkmalschutzes | G14: Eingegebene Kriterien inkl. Prioritäten werden automatisch in die Nutzwertanalyse übernommen!
B15: 1 | Stakeholder | C15: Bspw. Berücksichtigung anstehender Schadstoffsanierungen
B16: 1 | Stakeholder
B17: 1 | Stakeholder
B18: 1 | Stakeholder
B20: 2 | Planung
B21: 2 | Planung
B22: 2 | Planung
B23: 2 | Planung
B24: 2 | Planung
B26: 3 | Vergabeverfahren
B27: 3 | Vergabeverfahren
B28: 3 | Vergabeverfahren
B29: 3 | Vergabeverfahren
... B46: 4 | Projektbesonderheiten

Sheet 2 | Nutzwertanalyse
B2: Auswahl Beschaffungsmodelle: Nutzwertanalyse | R2: Schritt 2
U3: erfüllt
D4: Priorisierung | U4: neutral/irrelevant/keine Aussage
F5: Planen | H5: Bauen | J5: Planen+Bauen | N5: Planen+Bauen+Betrieb | Q5: Planen+Bauen +Betrieb +Finanzierung | U5: in Teilen erfüllt
C6: = Scroll-Down Menü | U6: nicht erfülllt
D7: [Nr.] | F7: EGV | G7: GP | H7: EGV | I7: GU [ab Lph 8] | J7: GU [ab Lph 5] | K7: TU/SEP | L7: MPV | M7: KoPa | N7: [TU] | O7: ÖPP | P7: KoPa | Q7: ÖPP | R7: KoPa
B8: 1 | C8: Stakeholder | D8: [0, 1, 2, 3] | E8: Kommentar
B9: A | C9: Einbeziehung des Bauunternehmens ab Lph 5 HOAI | H9: =IF($C$9="Einbeziehung des Bauunternehmens ab Lph 1 HOAI",0,IF($C$9="Einbeziehung des Bauunternehmens ab Lph 3 HOAI",0,IF($C$9="Einbeziehung des Bauunternehmens ab Lph 5 HOAI",0,IF($C$9="Einbeziehung des Bauunternehmens ab Lph 7 HOAI",1,"")))) -> 0 | I9: =IF($C$9="Einbeziehung des Bauunternehmens ab Lph 1 HOAI",0,IF($C$9="Einbeziehung des Bauunternehmens ab Lph 3 HOAI",0,IF($C$9="Einbeziehung des Bauunternehmens ab Lph 5 HOAI",0,IF($C$9="Einbeziehung des Bauunternehmens ab Lph 7 HOAI",1,"")))) -> 0 | J9: =IF($C$9="Einbeziehung des Bauunternehmens ab Lph 1 HOAI",0,IF($C$9="Einbeziehung des Bauunternehmens ab Lph 3 HOAI",0,IF($C$9="Einbeziehung des Bauunternehmens ab Lph 5 HOAI",2,IF($C$9="Einbeziehung des Bauunternehmens ab Lph 7 HOAI",0,"")))) -> 2 | K9: =IF($C$9="Einbeziehung des Bauunternehmens ab Lph 1 HOAI",0,IF($C$9="Einbeziehung des Bauunternehmens ab Lph 3 HOAI",2,IF($C$9="Einbeziehung des Bauunternehmens ab Lph 5 HOAI",0,IF($C$9="Einbeziehung des Bauunternehmens ab Lph 7 HOAI",0,"")))) -> 0 | L9: =IF($C$9="Einbeziehung des Bauunternehmens ab Lph 1 HOAI",2,IF($C$9="Einbeziehung des Bauunternehmens ab Lph 3 HOAI",0,IF($C$9="Einbeziehung des Bauunternehmens ab Lph 5 HOAI",0,IF($C$9="Einbeziehung des Bauunternehmens ab Lph 7 HOAI",0,"")))) -> 0 | M9: =IF($C$9="Einbeziehung des Bauunternehmens ab Lph 1 HOAI",2,IF($C$9="Einbeziehung des Bauunternehmens ab Lph 3 HOAI",0,IF($C$9="Einbeziehung des Bauunternehmens ab Lph 5 HOAI",0,IF($C$9="Einbeziehung des Bauunternehmens ab Lph 7 HOAI",0,"")))) -> 0 | N9: =IF($C$9="Einbeziehung des Bauunternehmens ab Lph 1 HOAI",0,IF($C$9="Einbeziehung des Bauunternehmens ab Lph 3 HOAI",2,IF($C$9="Einbeziehung des Bauunternehmens ab Lph 5 HOAI",0,IF($C$9="Einbeziehung des Bauunternehmens ab Lph 7 HOAI",0,"")))) -> 0 | O9: =IF($C$9="Einbeziehung des Bauunternehmens ab Lph 1 HOAI",0,IF($C$9="Einbeziehung des Bauunternehmens ab Lph 3 HOAI",2,IF($C$9="Einbeziehung des Bauunternehmens ab Lph 5 HOAI",0,IF($C$9="Einbeziehung des Bauunternehmens ab Lph 7 HOAI",0,"")))) -> 0 | P9: =IF($C$9="Einbeziehung des Bauunternehmens ab Lph 1 HOAI",2,IF($C$9="Einbeziehung des Bauunternehmens ab Lph 3 HOAI",0,IF($C$9="Einbeziehung des Bauunternehmens ab Lph 5 HOAI",0,IF($C$9="Einbeziehung des Bauunternehmens ab Lph 7 HOAI",0,"")))) -> 0 | Q9: =IF($C$9="Einbeziehung des Bauunternehmens ab Lph 1 HOAI",0,IF($C$9="Einbeziehung des Bauunternehmens ab Lph 3 HOAI",2,IF($C$9="Einbeziehung des Bauunternehmens ab Lph 5 HOAI",0,IF($C$9="Einbeziehung des Bauunternehmens ab Lph 7 HOAI",0,"")))) -> 0 | R9: =IF($C$9="Einbeziehung des Bauunternehmens ab Lph 1 HOAI",2,IF($C$9="Einbeziehung des Bauunternehmens ab Lph 3 HOAI",0,IF($C$9="Einbeziehung des Bauunternehmens ab Lph 5 HOAI",0,IF($C$9="Einbeziehung des Bauunternehmens ab Lph 7 HOAI",0,"")))) -> 0
B10: B | C10: Einbeziehung des Planers bis Lph 5 HOAI | F10: =IF($C$10="Einbeziehung des Planers bis Lph 3 HOAI",2,IF($C$10="Einbeziehung des Planers bis Lph 5 HOAI",2,IF($C$10="Einbeziehung des Planers über alle Phasen der HOAI",2,0))) -> 2 | G10: =IF($C$10="Einbeziehung des Planers bis Lph 3 HOAI",2,IF($C$10="Einbeziehung des Planers bis Lph 5 HOAI",2,IF($C$10="Einbeziehung des Planers über alle Phasen der HOAI",2,0))) -> 2 | H10: =IF($C$10="Einbeziehung des Planers bis Lph 3 HOAI",2,IF($C$10="Einbeziehung des Planers bis Lph 5 HOAI",2,IF($C$10="Einbeziehung des Planers über alle Phasen der HOAI",2,0))) -> 2 | I10: =IF($C$10="Einbeziehung des Planers bis Lph 3 HOAI",2,IF($C$10="Einbeziehung des Planers bis Lph 5 HOAI",2,IF($C$10="Einbeziehung des Planers über alle Phasen der HOAI",2,0))) -> 2 | J10: =IF($C$10="Einbeziehung des Planers bis Lph 3 HOAI",2,IF($C$10="Einbeziehung des Planers bis Lph 5 HOAI",1,IF($C$10="Einbeziehung des Planers über alle Phasen der HOAI",0,0))) -> 1 | K10: =IF($C$10="Einbeziehung des Planers bis Lph 3 HOAI",0,IF($C$10="Einbeziehung des Planers bis Lph 5 HOAI",0,IF($C$10="Einbeziehung des Planers über alle Phasen der HOAI",0,0))) -> 0 | L10: =IF($C$10="Einbeziehung des Planers bis Lph 3 HOAI",0,IF($C$10="Einbeziehung des Planers bis Lph 5 HOAI",0,IF($C$10="Einbeziehung des Planers über alle Phasen der HOAI",0,0))) -> 0 | M10: =IF($C$10="Einbeziehung des Planers bis Lph 3 HOAI",0,IF($C$10="Einbeziehung des Planers bis Lph 5 HOAI",0,IF($C$10="Einbeziehung des Planers über alle Phasen der HOAI",0,0))) -> 0 | N10: =IF($C$10="Einbeziehung des Planers bis Lph 3 HOAI",0,IF($C$10="Einbeziehung des Planers bis Lph 5 HOAI",0,IF($C$10="Einbeziehung des Planers über alle Phasen der HOAI",0,0))) -> 0 | O10: =IF($C$10="Einbeziehung des Planers bis Lph 3 HOAI",0,IF($C$10="Einbeziehung des Planers bis Lph 5 HOAI",0,IF($C$10="Einbeziehung des Planers über alle Phasen der HOAI",0,0))) -> 0 | P10: =IF($C$10="Einbeziehung des Planers bis Lph 3 HOAI",0,IF($C$10="Einbeziehung des Planers bis Lph 5 HOAI",0,IF($C$10="Einbeziehung des Planers über alle Phasen der HOAI",0,0))) -> 0 | Q10: =IF($C$10="Einbeziehung des Planers bis Lph 3 HOAI",0,IF($C$10="Einbeziehung des Planers bis Lph 5 HOAI",0,IF($C$10="Einbeziehung des Planers über alle Phasen der HOAI",0,0))) -> 0 | R10: =IF($C$10="Einbeziehung des Planers bis Lph 3 HOAI",0,IF($C$10="Einbeziehung des Planers bis Lph 5 HOAI",0,IF($C$10="Einbeziehung des Planers über alle Phasen der HOAI",0,0))) -> 0
B11: C | C11: Geringe Personalkapazitäten für die Planungsphase beim Auftraggeber vorhanden | F11: =IF($C$11="Geringe Personalkapazitäten für die Planungsphase beim Auftraggeber vorhanden",2,IF($C$11="Mittlere Personalkapazitäten für die Planungsphase beim Auftraggeber vorhanden","",IF($C$11="Hohe Personalkapazitäten für die Planungsphase beim Auftraggeber vorhanden",0,0))) -> 2 | G11: =IF($C$11="Geringe Personalkapazitäten für die Planungsphase beim Auftraggeber vorhanden",2,IF($C$11="Mittlere Personalkapazitäten für die Planungsphase beim Auftraggeber vorhanden",1,IF($C$11="Hohe Personalkapazitäten für die Planungsphase beim Auftraggeber vorhanden","",0))) -> 2 | H11: =IF($C$11="Geringe Personalkapazitäten für die Planungsphase beim Auftraggeber vorhanden",2,IF($C$11="Mittlere Personalkapazitäten für die Planungsphase beim Auftraggeber vorhanden","",IF($C$11="Hohe Personalkapazitäten für die Planungsphase beim Auftraggeber vorhanden","",0))) -> 2 | I11: =IF($C$11="Geringe Personalkapazitäten für die Planungsphase beim Auftraggeber vorhanden",2,IF($C$11="Mittlere Personalkapazitäten für die Planungsphase beim Auftraggeber vorhanden",1,IF($C$11="Hohe Personalkapazitäten für die Planungsphase beim Auftraggeber vorhanden","",0))) -> 2 | J11: =IF($C$11="Geringe Personalkapazitäten für die Planungsphase beim Auftraggeber vorhanden",2,IF($C$11="Mittlere Personalkapazitäten für die Planungsphase beim Auftraggeber vorhanden",1,IF($C$11="Hohe Personalkapazitäten für die Planungsphase beim Auftraggeber vorhanden","",0))) -> 2 | K11: =IF($C$11="Geringe Personalkapazitäten für die Planungsphase beim Auftraggeber vorhanden","",IF($C$11="Mittlere Personalkapazitäten für die Planungsphase beim Auftraggeber vorhanden",2,IF($C$11="Hohe Personalkapazitäten für die Planungsphase beim Auftraggeber vorhanden",2,0))) | L11: =IF($C$11="Geringe Personalkapazitäten für die Planungsphase beim Auftraggeber vorhanden",2,IF($C$11="Mittlere Personalkapazitäten für die Planungsphase beim Auftraggeber vorhanden","",IF($C$11="Hohe Personalkapazitäten für die Planungsphase beim Auftraggeber vorhanden","",0))) -> 2 | M11: =IF($C$11="Geringe Personalkapazitäten für die Planungsphase beim Auftraggeber vorhanden","",IF($C$11="Mittlere Personalkapazitäten für die Planungsphase beim Auftraggeber vorhanden",2,IF($C$11="Hohe Personalkapazitäten für die Planungsphase beim Auftraggeber vorhanden",2,0))) | N11: =IF($C$11="Geringe Personalkapazitäten für die Planungsphase beim Auftraggeber vorhanden","",IF($C$11="Mittlere Personalkapazitäten für die Planungsphase beim Auftraggeber vorhanden",2,IF($C$11="Hohe Personalkapazitäten für die Planungsphase beim Auftraggeber vorhanden",2,0))) | O11: =IF($C$11="Geringe Personalkapazitäten für die Planungsphase beim Auftraggeber vorhanden","",IF($C$11="Mittlere Personalkapazitäten für die Planungsphase beim Auftraggeber vorhanden",2,IF($C$11="Hohe Personalkapazitäten für die Planungsphase beim Auftraggeber vorhanden",2,0))) | P11: =IF($C$11="Geringe Personalkapazitäten für die Planungsphase beim Auftraggeber vorhanden","",IF($C$11="Mittlere Personalkapazitäten für die Planungsphase beim Auftraggeber vorhanden",2,IF($C$11="Hohe Personalkapazitäten für die Planungsphase beim Auftraggeber vorhanden",2,0))) | Q11: =IF($C$11="Geringe Personalkapazitäten für die Planungsphase beim Auftraggeber vorhanden","",IF($C$11="Mittlere Personalkapazitäten für die Planungsphase beim Auftraggeber vorhanden",2,IF($C$11="Hohe Personalkapazitäten für die Planungsphase beim Auftraggeber vorhanden",2,0))) | R11: =IF($C$11="Geringe Personalkapazitäten für die Planungsphase beim Auftraggeber vorhanden","",IF($C$11="Mittlere Personalkapazitäten für die Planungsphase beim Auftraggeber vorhanden",2,IF($C$11="Hohe Personalkapazitäten für die Planungsphase beim Auftraggeber vorhanden",2,0)))
B12: D | C12: Mittlere Personalkapazitäten für die Projektausführung beim Auftraggeber | F12: =IF($C$12="Geringe Personalkapazitäten für die Projektausführung beim Auftraggeber",2,IF($C$12="Mittlere Personalkapazitäten für die Projektausführung beim Auftraggeber","",IF($C$12="Hohe Personalkapazitäten für die Projektausführung beim Auftraggeber","",0))) | G12: =IF($C$12="Geringe Personalkapazitäten für die Projektausführung beim Auftraggeber","",IF($C$12="Mittlere Personalkapazitäten für die Projektausführung beim Auftraggeber",2,IF($C$12="Hohe Personalkapazitäten für die Projektausführung beim Auftraggeber",2,0))) -> 2 | H12: =IF($C$12="Geringe Personalkapazitäten für die Projektausführung beim Auftraggeber",2,IF($C$12="Mittlere Personalkapazitäten für die Projektausführung beim Auftraggeber","",IF($C$12="Hohe Personalkapazitäten für die Projektausführung beim Auftraggeber",1,0))) | I12: =IF($C$12="Geringe Personalkapazitäten für die Projektausführung beim Auftraggeber","",IF($C$12="Mittlere Personalkapazitäten für die Projektausführung beim Auftraggeber",2,IF($C$12="Hohe Personalkapazitäten für die Projektausführung beim Auftraggeber",2,0))) -> 2 | J12: =IF($C$12="Geringe Personalkapazitäten für die Projektausführung beim Auftraggeber","",IF($C$12="Mittlere Personalkapazitäten für die Projektausführung beim Auftraggeber",2,IF($C$12="Hohe Personalkapazitäten für die Projektausführung beim Auftraggeber",2,0))) -> 2 | K12: =IF($C$12="Geringe Personalkapazitäten für die Projektausführung beim Auftraggeber","",IF($C$12="Mittlere Personalkapazitäten für die Projektausführung beim Auftraggeber",2,IF($C$12="Hohe Personalkapazitäten für die Projektausführung beim Auftraggeber",2,0))) -> 2 | L12: =IF($C$12="Geringe Personalkapazitäten für die Projektausführung beim Auftraggeber",2,IF($C$12="Mittlere Personalkapazitäten für die Projektausführung beim Auftraggeber","",IF($C$12="Hohe Personalkapazitäten für die Projektausführung beim Auftraggeber","",0))) | M12: =IF($C$12="Geringe Personalkapazitäten für die Projektausführung beim Auftraggeber","",IF($C$12="Mittlere Personalkapazitäten für die Projektausführung beim Auftraggeber",2,IF($C$12="Hohe Personalkapazitäten für die Projektausführung beim Auftraggeber",2,0))) -> 2 | N12: =IF($C$12="Geringe Personalkapazitäten für die Projektausführung beim Auftraggeber","",IF($C$12="Mittlere Personalkapazitäten für die Projektausführung beim Auftraggeber",2,IF($C$12="Hohe Personalkapazitäten für die Projektausführung beim Auftraggeber",2,0))) -> 2 | O12: =IF($C$12="Geringe Personalkapazitäten für die Projektausführung beim Auftraggeber","",IF($C$12="Mittlere Personalkapazitäten für die Projektausführung beim Auftraggeber",2,IF($C$12="Hohe Personalkapazitäten für die Projektausführung beim Auftraggeber",2,0))) -> 2 | P12: =IF($C$12="Geringe Personalkapazitäten für die Projektausführung beim Auftraggeber","",IF($C$12="Mittlere Personalkapazitäten für die Projektausführung beim Auftraggeber",2,IF($C$12="Hohe Personalkapazitäten für die Projektausführung beim Auftraggeber",2,0))) -> 2 | Q12: =IF($C$12="Geringe Personalkapazitäten für die Projektausführung beim Auftraggeber","",IF($C$12="Mittlere Personalkapazitäten für die Projektausführung beim Auftraggeber",2,IF($C$12="Hohe Personalkapazitäten für die Projektausführung beim Auftraggeber",2,0))) -> 2 | R12: =IF($C$12="Geringe Personalkapazitäten für die Projektausführung beim Auftraggeber","",IF($C$12="Mittlere Personalkapazitäten für die Projektausführung beim Auftraggeber",2,IF($C$12="Hohe Personalkapazitäten für die Projektausführung beim Auftraggeber",2,0))) -> 2
B13: E | C13: Einflussnahme von weiteren Interessengruppen [bspw. Anwohner, Umwelt, …] | F13: 2 | G13: 2 | H13: 2 | I13: 1 | J13: 0 | K13: 0 | L13: 1 | M13: 0 | N13: 0 | O13: 0 | P13: 0 | Q13: 0 | R13: 0
B14: F | C14: =IF('1| Brainstorming'!$C14="","",'1| Brainstorming'!$C14) -> Bspw. Berücksichtigung des Denkmalschutzes | D14: ='1| Brainstorming'!$D14 -> 0 | F14: 0 | G14: 0 | H14: 0 | I14: 0 | J14: 0 | K14: 0 | L14: 0 | M14: 0 | N14: 0 | O14: 0 | P14: 0 | Q14: 0 | R14: 0
B15: D | C15: =IF('1| Brainstorming'!$C15="","",'1| Brainstorming'!$C15) -> Bspw. Berücksichtigung anstehender Schadstoffsanierungen | D15: ='1| Brainstorming'!$D15 -> 0 | F15: 0 | G15: 0 | H15: 0 | I15: 0 | J15: 0 | K15: 0 | L15: 0 | M15: 0 | N15: 0 | O15: 0 | P15: 0 | Q15: 0 | R15: 0
B16: E | C16: =IF('1| Brainstorming'!$C16="","",'1| Brainstorming'!$C16) | D16: ='1| Brainstorming'!$D16 -> 0
B17: F | C17: =IF('1| Brainstorming'!$C17="","",'1| Brainstorming'!$C17) | D17: ='1| Brainstorming'!$D17 -> 0
B18: D | C18: =IF('1| Brainstorming'!$C18="","",'1| Brainstorming'!$C18) | D18: ='1| Brainstorming'!$D18 -> 0
E19: Summe je Kategorie | F19: =$D9*SUM(F$9:F$9)+$D10*SUM(F$10:F$10)+$D11*SUM(F$11:F$11)+$D12*SUM(F$12:F$12)+$D13*SUM(F$13)+$D14*SUM(F$14)+$D15*SUM(F$15)+$D16*SUM(F$16)+$D17*SUM(F$17)+$D18*SUM(F$18) -> 0 | G19: =$D9*SUM(G$9:G$9)+$D10*SUM(G$10:G$10)+$D11*SUM(G$11:G$11)+$D12*SUM(G$12:G$12)+$D13*SUM(G$13)+$D14*SUM(G$14)+$D15*SUM(G$15)+$D16*SUM(G$16)+$D17*SUM(G$17)+$D18*SUM(G$18) -> 0 | H19: =$D9*SUM(H$9:H$9)+$D10*SUM(H$10:H$10)+$D11*SUM(H$11:H$11)+$D12*SUM(H$12:H$12)+$D13*SUM(H$13)+$D14*SUM(H$14)+$D15*SUM(H$15)+$D16*SUM(H$16)+$D17*SUM(H$17)+$D18*SUM(H$18) -> 0 | I19: =$D9*SUM(I$9:I$9)+$D10*SUM(I$10:I$10)+$D11*SUM(I$11:I$11)+$D12*SUM(I$12:I$12)+$D13*SUM(I$13)+$D14*SUM(I$14)+$D15*SUM(I$15)+$D16*SUM(I$16)+$D17*SUM(I$17)+$D18*SUM(I$18) -> 0 | J19: =$D9*SUM(J$9:J$9)+$D10*SUM(J$10:J$10)+$D11*SUM(J$11:J$11)+$D12*SUM(J$12:J$12)+$D13*SUM(J$13)+$D14*SUM(J$14)+$D15*SUM(J$15)+$D16*SUM(J$16)+$D17*SUM(J$17)+$D18*SUM(J$18) -> 0 | K19: =$D9*SUM(K$9:K$9)+$D10*SUM(K$10:K$10)+$D11*SUM(K$11:K$11)+$D12*SUM(K$12:K$12)+$D13*SUM(K$13)+$D14*SUM(K$14)+$D15*SUM(K$15)+$D16*SUM(K$16)+$D17*SUM(K$17)+$D18*SUM(K$18) -> 0 | L19: =$D9*SUM(L$9:L$9)+$D10*SUM(L$10:L$10)+$D11*SUM(L$11:L$11)+$D12*SUM(L$12:L$12)+$D13*SUM(L$13)+$D14*SUM(L$14)+$D15*SUM(L$15)+$D16*SUM(L$16)+$D17*SUM(L$17)+$D18*SUM(L$18) -> 0 | M19: =$D9*SUM(M$9:M$9)+$D10*SUM(M$10:M$10)+$D11*SUM(M$11:M$11)+$D12*SUM(M$12:M$12)+$D13*SUM(M$13)+$D14*SUM(M$14)+$D15*SUM(M$15)+$D16*SUM(M$16)+$D17*SUM(M$17)+$D18*SUM(M$18) -> 0 | ... R19: =$D9*SUM(R$9:R$9)+$D10*SUM(R$10:R$10)+$D11*SUM(R$11:R$11)+$D12*SUM(R$12:R$12)+$D13*SUM(R$13)+$D14*SUM(R$14)+$D15*SUM(R$15)+$D16*SUM(R$16)+$D17*SUM(R$17)+$D18*SUM(R$18) -> 0
B20: 2 | C20: Planung
B21: A | C21: Beschleunigung durch Optimierung der Planungs- und Bauphase durch das Bauunternehmen gewünscht | F21: 0 | G21: 0 | H21: 0 | I21: 0 | J21: 1 | K21: 2 | L21: 2 | M21: 2 | N21: 2 | O21: 2 | P21: 2 | Q21: 2
B22: B | C22: Flexibilität hinsichtlich Planungsänderungen gewünscht | F22: 2 | G22: 1 | H22: 2 | I22: 1 | J22: 1 | K22: 0 | L22: 1 | M22: 0 | N22: 0 | O22: 0 | P22: 0 | Q22: 0 | R22: 0
B23: C | C23: Optimierungsmöglichkeiten der Planung durch das Bauunternehmen vorhanden | F23: 0 | G23: 0 | H23: 0 | I23: 1 | J23: 1 | K23: 2 | L23: 2 | M23: 2 | N23: 2 | O23: 2 | P23: 2 | Q23: 2 | R23: 2
B24: D | C24: Einbindung von Innovationen durch das Bauunternehmen vorhanden | F24: 0 | G24: 0 | H24: 0 | I24: 0 | J24: 1 | K24: 2 | L24: 2 | M24: 2 | N24: 2 | O24: 2 | P24: 2 | Q24: 2 | R24: 2
B25: E | C25: Einfache Übertragung von Nachhaltigkeitsanforderungen | F25: 1 | G25: 1 | H25: 1 | I25: 1 | J25: 1 | K25: 2 | L25: 2 | M25: 2 | N25: 2 | O25: 2 | P25: 2 | Q25: 2 | R25: 2
B26: F | C26: =IF('1| Brainstorming'!$C20="","",'1| Brainstorming'!$C20) | D26: ='1| Brainstorming'!$D20 -> 0
B27: G | C27: =IF('1| Brainstorming'!$C21="","",'1| Brainstorming'!$C21) | D27: ='1| Brainstorming'!$D21 -> 0
B28: H | C28: =IF('1| Brainstorming'!$C22="","",'1| Brainstorming'!$C22) | D28: ='1| Brainstorming'!$D22 -> 0
B29: I | C29: =IF('1| Brainstorming'!$C23="","",'1| Brainstorming'!$C23) | D29: ='1| Brainstorming'!$D23 -> 0
B30: J | C30: =IF('1| Brainstorming'!$C24="","",'1| Brainstorming'!$C24) | D30: ='1| Brainstorming'!$D24 -> 0
E31: Summe je Kategorie | F31: =$D21*SUM(F$21)+$D22*SUM(F$22)+$D23*SUM(F$23)+$D24*SUM(F$24)+$D25*SUM(F$25)+$D26*SUM(F$26)+$D27*SUM(F$27)+$D28*SUM(F$28)+$D29*SUM(F$29)+$D30*SUM(F$30) -> 0 | G31: =$D21*SUM(G$21)+$D22*SUM(G$22)+$D23*SUM(G$23)+$D24*SUM(G$24)+$D25*SUM(G$25)+$D26*SUM(G$26)+$D27*SUM(G$27)+$D28*SUM(G$28)+$D29*SUM(G$29)+$D30*SUM(G$30) -> 0 | H31: =$D21*SUM(H$21)+$D22*SUM(H$22)+$D23*SUM(H$23)+$D24*SUM(H$24)+$D25*SUM(H$25)+$D26*SUM(H$26)+$D27*SUM(H$27)+$D28*SUM(H$28)+$D29*SUM(H$29)+$D30*SUM(H$30) -> 0 | I31: =$D21*SUM(I$21)+$D22*SUM(I$22)+$D23*SUM(I$23)+$D24*SUM(I$24)+$D25*SUM(I$25)+$D26*SUM(I$26)+$D27*SUM(I$27)+$D28*SUM(I$28)+$D29*SUM(I$29)+$D30*SUM(I$30) -> 0 | J31: =$D21*SUM(J$21)+$D22*SUM(J$22)+$D23*SUM(J$23)+$D24*SUM(J$24)+$D25*SUM(J$25)+$D26*SUM(J$26)+$D27*SUM(J$27)+$D28*SUM(J$28)+$D29*SUM(J$29)+$D30*SUM(J$30) -> 0 | K31: =$D21*SUM(K$21)+$D22*SUM(K$22)+$D23*SUM(K$23)+$D24*SUM(K$24)+$D25*SUM(K$25)+$D26*SUM(K$26)+$D27*SUM(K$27)+$D28*SUM(K$28)+$D29*SUM(K$29)+$D30*SUM(K$30) -> 0 | L31: =$D21*SUM(L$21)+$D22*SUM(L$22)+$D23*SUM(L$23)+$D24*SUM(L$24)+$D25*SUM(L$25)+$D26*SUM(L$26)+$D27*SUM(L$27)+$D28*SUM(L$28)+$D29*SUM(L$29)+$D30*SUM(L$30) -> 0 | M31: =$D21*SUM(M$21)+$D22*SUM(M$22)+$D23*SUM(M$23)+$D24*SUM(M$24)+$D25*SUM(M$25)+$D26*SUM(M$26)+$D27*SUM(M$27)+$D28*SUM(M$28)+$D29*SUM(M$29)+$D30*SUM(M$30) -> 0 | ... R31: =$D21*SUM(R$21)+$D22*SUM(R$22)+$D23*SUM(R$23)+$D24*SUM(R$24)+$D25*SUM(R$25)+$D26*SUM(R$26)+$D27*SUM(R$27)+$D28*SUM(R$28)+$D29*SUM(R$29)+$D30*SUM(R$30) -> 0
B32: 3 | C32: Vergabeverfahren
B33: A | C33: Hohe Anzahl der Bieter im Wettbewerb | F33: 2 | G33: 1 | H33: 2 | I33: 1 | J33: 1 | K33: 0 | L33: 0 | M33: 0 | N33: 0 | O33: 0 | P33: 0 | Q33: 0 | R33: 0
B34: B | C34: Kurze Dauer des Vergabeverfahrens | F34: 1 | G34: 2 | H34: 1 | I34: 2 | J34: 2 | K34: 1 | L34: 2
B35: C | C35: Berücksichtigung der Betriebskosten im Vergabemodell gewünscht | F35: 0 | G35: 0 | H35: 0 | I35: 0 | J35: 0 | K35: 0 | L35: 0 | M35: 0 | N35: 2 | O35: 2 | P35: 2 | Q35: 2 | R35: 2
B36: D | C36: Risikoübertragung zwischen den Vertragspartnern gewünscht | F36: 0 | G36: 1 | H36: 0 | I36: 1 | J36: 1 | K36: 2 | L36: 2 | M36: 2 | N36: 2 | O36: 2 | P36: 2 | Q36: 2 | R36: 2
B37: E | C37: Flexibilität im Vergabeverfahren für die AN gewünscht | F37: 2 | G37: 1 | H37: 2 | I37: 0 | J37: 0 | K37: 0 | L37: 1 | M37: 1 | N37: 0 | O37: 0 | P37: 1 | Q37: 0 | R37: 1
B38: F | C38: Gute Kontrollmöglichkeiten nach Zuschlag durch den AG | F38: 2 | G38: 1 | H38: 2 | I38: 1 | J38: 0 | K38: 0 | L38: 1 | M38: 1 | N38: 0 | O38: 0 | P38: 2 | Q38: 0 | R38: 2
B39: G | C39: =IF('1| Brainstorming'!$C26="","",'1| Brainstorming'!$C26) | D39: ='1| Brainstorming'!$D26 -> 0
B40: H | C40: =IF('1| Brainstorming'!$C27="","",'1| Brainstorming'!$C27) | D40: ='1| Brainstorming'!$D27 -> 0
B41: I | C41: =IF('1| Brainstorming'!$C28="","",'1| Brainstorming'!$C28) | D41: ='1| Brainstorming'!$D28 -> 0
B42: J | C42: =IF('1| Brainstorming'!$C29="","",'1| Brainstorming'!$C29) | D42: ='1| Brainstorming'!$D29 -> 0
B43: K | C43: =IF('1| Brainstorming'!$C30="","",'1| Brainstorming'!$C30) | D43: ='1| Brainstorming'!$D30 -> 0
E44: Summe je Kategorie | F44: =$D33*SUM(F$33:F$33)+$D34*SUM(F$34:F$34)++$D35*SUM(F$35:F$35)+$D36*SUM(F$36:F$36)+$D37*SUM(F$37:F$37)+$D38*SUM(F$38:F$38)+$D39*SUM(F$39)+$D40*SUM(F$40)+$D41*SUM(F$41)+$D42*SUM(F$42)+$D43*SUM(F$43) -> 0 | G44: =$D33*SUM(G$33:G$33)+$D34*SUM(G$34:G$34)++$D35*SUM(G$35:G$35)+$D36*SUM(G$36:G$36)+$D37*SUM(G$37:G$37)+$D38*SUM(G$38:G$38)+$D39*SUM(G$39)+$D40*SUM(G$40)+$D41*SUM(G$41)+$D42*SUM(G$42)+$D43*SUM(G$43) -> 0 | H44: =$D33*SUM(H$33:H$33)+$D34*SUM(H$34:H$34)++$D35*SUM(H$35:H$35)+$D36*SUM(H$36:H$36)+$D37*SUM(H$37:H$37)+$D38*SUM(H$38:H$38)+$D39*SUM(H$39)+$D40*SUM(H$40)+$D41*SUM(H$41)+$D42*SUM(H$42)+$D43*SUM(H$43) -> 0 | I44: =$D33*SUM(I$33:I$33)+$D34*SUM(I$34:I$34)++$D35*SUM(I$35:I$35)+$D36*SUM(I$36:I$36)+$D37*SUM(I$37:I$37)+$D38*SUM(I$38:I$38)+$D39*SUM(I$39)+$D40*SUM(I$40)+$D41*SUM(I$41)+$D42*SUM(I$42)+$D43*SUM(I$43) -> 0 | J44: =$D33*SUM(J$33:J$33)+$D34*SUM(J$34:J$34)++$D35*SUM(J$35:J$35)+$D36*SUM(J$36:J$36)+$D37*SUM(J$37:J$37)+$D38*SUM(J$38:J$38)+$D39*SUM(J$39)+$D40*SUM(J$40)+$D41*SUM(J$41)+$D42*SUM(J$42)+$D43*SUM(J$43) -> 0 | K44: =$D33*SUM(K$33:K$33)+$D34*SUM(K$34:K$34)++$D35*SUM(K$35:K$35)+$D36*SUM(K$36:K$36)+$D37*SUM(K$37:K$37)+$D38*SUM(K$38:K$38)+$D39*SUM(K$39)+$D40*SUM(K$40)+$D41*SUM(K$41)+$D42*SUM(K$42)+$D43*SUM(K$43) -> 0 | L44: =$D33*SUM(L$33:L$33)+$D34*SUM(L$34:L$34)++$D35*SUM(L$35:L$35)+$D36*SUM(L$36:L$36)+$D37*SUM(L$37:L$37)+$D38*SUM(L$38:L$38)+$D39*SUM(L$39)+$D40*SUM(L$40)+$D41*SUM(L$41)+$D42*SUM(L$42)+$D43*SUM(L$43) -> 0 | M44: =$D33*SUM(M$33:M$33)+$D34*SUM(M$34:M$34)++$D35*SUM(M$35:M$35)+$D36*SUM(M$36:M$36)+$D37*SUM(M$37:M$37)+$D38*SUM(M$38:M$38)+$D39*SUM(M$39)+$D40*SUM(M$40)+$D41*SUM(M$41)+$D42*SUM(M$42)+$D43*SUM(M$43) -> 0 | ... R44: =$D33*SUM(R$33:R$33)+$D34*SUM(R$34:R$34)++$D35*SUM(R$35:R$35)+$D36*SUM(R$36:R$36)+$D37*SUM(R$37:R$37)+$D38*SUM(R$38:R$38)+$D39*SUM(R$39)+$D40*SUM(R$40)+$D41*SUM(R$41)+$D42*SUM(R$42)+$D43*SUM(R$43) -> 0
B45: 4 | C45: Projektbesonderheiten
B46: A | C46: Fehlende Informationstiefe der Grundlagenermittlung zum Nutzerbedarf und Projektgegebenheiten vorhanden | F46: 2 | G46: 2 | H46: 2 | I46: 1 | J46: 0 | K46: 0 | L46: 1 | M46: 1 | N46: 0 | O46: 0 | P46: 1 | Q46: 0 | R46: 1
B47: B | C47: Stetige Einflussnahme des Nutzers zu erwarten | F47: 2 | G47: 2 | H47: 2 | I47: 1 | J47: 0 | K47: 0 | L47: 0 | M47: 0 | N47: 0 | O47: 0 | P47: 0 | Q47: 0 | R47: 0
B48: C | C48: Hohe Komplexität der Bauaufgabe vorhanden | F48: 0 | G48: 2 | H48: 0 | I48: 0 | J48: 1 | K48: 2 | L48: 2 | M48: 2 | N48: 2 | O48: 2 | P48: 2 | Q48: 2 | R48: 2
B49: D | C49: Spezifizierung der Planer und Ausführenden notwendig | F49: 2 | G49: 1 | H49: 2 | I49: 1 | J49: 0 | K49: 0 | L49: 0 | M49: 0 | N49: 0 | O49: 0 | P49: 0 | Q49: 0 | R49: 0
B50: E | C50: Es ist eine kritische Infrastruktur vorhanden | F50: 2 | G50: 2 | H50: 2 | I50: 2 | J50: 2 | K50: 2 | L50: 2 | M50: 2 | N50: 0 | O50: 0 | P50: 0 | Q50: 0 | R50: 0
B51: F | C51: Eine hohe Budgetsicherheit ist notwendig | F51: 0 | G51: 1 | H51: 0 | I51: 1 | J51: 2 | K51: 2 | L51: 2 | M51: 2 | N51: 2 | O51: 2 | P51: 2 | Q51: 2 | R51: 2
B52: G | C52: Eine hohe Budgetflexibilität ist notwendig | F52: 2 | G52: 2 | H52: 2 | I52: 1 | J52: 0 | K52: 0 | L52: 1 | M52: 1 | N52: 0 | O52: 0 | P52: 1 | Q52: 0 | R52: 1
B53: H | C53: Eine hohe Terminsicherheit ist notwendig | F53: 0 | G53: 1 | H53: 0 | I53: 2 | J53: 2 | K53: 2 | L53: 2 | M53: 2 | N53: 2 | O53: 2 | P53: 2 | Q53: 2 | R53: 2
B54: I | C54: Eine hohe Terminflexibilität ist notwendig | F54: 2 | G54: 1 | H54: 2 | I54: 0 | J54: 0 | K54: 0 | L54: 0 | M54: 0 | N54: 0 | O54: 0 | P54: 0 | Q54: 0 | R54: 0
B55: J | C55: Eine hohe Qualitätssicherheit ist notwendig | F55: 1 | G55: 2 | H55: 1 | I55: 2 | J55: 2 | K55: 2 | L55: 2 | M55: 2 | N55: 2 | O55: 2 | P55: 2 | Q55: 2 | R55: 2
B56: K | C56: Bauinvestitionsvolumen: kleiner 15 Mio. € | F56: =IF($C$56="Bauinvestitionsvolumen: kleiner 15 Mio. €",2,IF($C$56="Bauinvestitionsvolumen: zwischen 15-50 Mio. €",2,IF($C$56="Bauinvestitionsvolumen: zwischen 50-100 Mio. €",1,0))) -> 2 | G56: =IF($C$56="Bauinvestitionsvolumen: kleiner 15 Mio. €",2,IF($C$56="Bauinvestitionsvolumen: zwischen 15-50 Mio. €",2,IF($C$56="Bauinvestitionsvolumen: zwischen 50-100 Mio. €",2,0))) -> 2 | H56: =IF($C$56="Bauinvestitionsvolumen: kleiner 15 Mio. €",2,IF($C$56="Bauinvestitionsvolumen: zwischen 15-50 Mio. €",2,IF($C$56="Bauinvestitionsvolumen: zwischen 50-100 Mio. €",1,0))) -> 2 | I56: =IF($C$56="Bauinvestitionsvolumen: kleiner 15 Mio. €",2,IF($C$56="Bauinvestitionsvolumen: zwischen 15-50 Mio. €",2,IF($C$56="Bauinvestitionsvolumen: zwischen 50-100 Mio. €",2,0))) -> 2 | J56: =IF($C$56="Bauinvestitionsvolumen: kleiner 15 Mio. €",2,IF($C$56="Bauinvestitionsvolumen: zwischen 15-50 Mio. €",2,IF($C$56="Bauinvestitionsvolumen: zwischen 50-100 Mio. €",2,0))) -> 2 | K56: =IF($C$56="Bauinvestitionsvolumen: kleiner 15 Mio. €",2,IF($C$56="Bauinvestitionsvolumen: zwischen 15-50 Mio. €",2,IF($C$56="Bauinvestitionsvolumen: zwischen 50-100 Mio. €",2,0))) -> 2 | L56: =IF($C$56="Bauinvestitionsvolumen: kleiner 15 Mio. €","",IF($C$56="Bauinvestitionsvolumen: zwischen 15-50 Mio. €","",IF($C$56="Bauinvestitionsvolumen: zwischen 50-100 Mio. €",2,0))) | M56: =IF($C$56="Bauinvestitionsvolumen: kleiner 15 Mio. €","",IF($C$56="Bauinvestitionsvolumen: zwischen 15-50 Mio. €","",IF($C$56="Bauinvestitionsvolumen: zwischen 50-100 Mio. €",2,0))) | N56: =IF($C$56="Bauinvestitionsvolumen: kleiner 15 Mio. €","",IF($C$56="Bauinvestitionsvolumen: zwischen 15-50 Mio. €",2,IF($C$56="Bauinvestitionsvolumen: zwischen 50-100 Mio. €",2,0))) | O56: =IF($C$56="Bauinvestitionsvolumen: kleiner 15 Mio. €","",IF($C$56="Bauinvestitionsvolumen: zwischen 15-50 Mio. €",2,IF($C$56="Bauinvestitionsvolumen: zwischen 50-100 Mio. €",2,0))) | P56: =IF($C$56="Bauinvestitionsvolumen: kleiner 15 Mio. €","",IF($C$56="Bauinvestitionsvolumen: zwischen 15-50 Mio. €","",IF($C$56="Bauinvestitionsvolumen: zwischen 50-100 Mio. €",2,0))) | Q56: =IF($C$56="Bauinvestitionsvolumen: kleiner 15 Mio. €","",IF($C$56="Bauinvestitionsvolumen: zwischen 15-50 Mio. €",2,IF($C$56="Bauinvestitionsvolumen: zwischen 50-100 Mio. €",2,0))) | R56: =IF($C$56="Bauinvestitionsvolumen: kleiner 15 Mio. €","",IF($C$56="Bauinvestitionsvolumen: zwischen 15-50 Mio. €","",IF($C$56="Bauinvestitionsvolumen: zwischen 50-100 Mio. €",2,0)))
B57: L | C57: =IF('1| Brainstorming'!$C32="","",'1| Brainstorming'!$C32) | D57: ='1| Brainstorming'!$D32 -> 0
B58: M | C58: =IF('1| Brainstorming'!$C33="","",'1| Brainstorming'!$C33) | D58: ='1| Brainstorming'!$D33 -> 0
B59: N | C59: =IF('1| Brainstorming'!$C34="","",'1| Brainstorming'!$C34) | D59: ='1| Brainstorming'!$D34 -> 0
B60: O | C60: =IF('1| Brainstorming'!$C35="","",'1| Brainstorming'!$C35) | D60: ='1| Brainstorming'!$D35 -> 0
B61: P | C61: =IF('1| Brainstorming'!$C36="","",'1| Brainstorming'!$C36) | D61: ='1| Brainstorming'!$D36 -> 0
B62: Q | C62: =IF('1| Brainstorming'!$C37="","",'1| Brainstorming'!$C37) | D62: ='1| Brainstorming'!$D37 -> 0
B63: R | C63: =IF('1| Brainstorming'!$C38="","",'1| Brainstorming'!$C38) | D63: ='1| Brainstorming'!$D38 -> 0
B64: S | C64: =IF('1| Brainstorming'!$C39="","",'1| Brainstorming'!$C39) | D64: ='1| Brainstorming'!$D39 -> 0
B65: T | C65: =IF('1| Brainstorming'!$C40="","",'1| Brainstorming'!$C40) | D65: ='1| Brainstorming'!$D40 -> 0
B66: U | C66: =IF('1| Brainstorming'!$C41="","",'1| Brainstorming'!$C41) | D66: ='1| Brainstorming'!$D41 -> 0
B67: V | C67: =IF('1| Brainstorming'!$C42="","",'1| Brainstorming'!$C42) | D67: ='1| Brainstorming'!$D42 -> 0
B68: W | C68: =IF('1| Brainstorming'!$C43="","",'1| Brainstorming'!$C43) | D68: ='1| Brainstorming'!$D43 -> 0
... B71: Z | C71: =IF('1| Brainstorming'!$C46="","",'1| Brainstorming'!$C46) | D71: ='1| Brainstorming'!$D46 -> 0
E72: Summe je Kategorie | F72: =$D46*SUM(F$46:F$46)+$D47*SUM(F$47:F$47)+$D48*SUM(F$48:F$48)+$D49*SUM(F$49:F$49)+$D50*SUM(F$50:F$50)+$D51*SUM(F$51)+$D52*SUM(F$52)+$D53*SUM(F$53)+$D54*SUM(F$54)+$D55*SUM(F$55)+$D56*SUM(F$56)+$D57*SUM(F$57)+$D58*SUM(F$58)+$D59*SUM(F$59)+$D60*SUM(F$60)+$D61*SUM(F$61)+$D62*SUM(F$62)+$D63*SUM(F$63)+$D64*SUM(F$64)+$D65*SUM(F$65)+$D66*SUM(F$66)+$D67*SUM(F$67)+$D68*SUM(F$68)+$D69*SUM(F$69)+$D70*SUM(F$70)+$D71*SUM(F$71) -> 0 | G72: =$D46*SUM(G$46:G$46)+$D47*SUM(G$47:G$47)+$D48*SUM(G$48:G$48)+$D49*SUM(G$49:G$49)+$D50*SUM(G$50:G$50)+$D51*SUM(G$51)+$D52*SUM(G$52)+$D53*SUM(G$53)+$D54*SUM(G$54)+$D55*SUM(G$55)+$D56*SUM(G$56)+$D57*SUM(G$57)+$D58*SUM(G$58)+$D59*SUM(G$59)+$D60*SUM(G$60)+$D61*SUM(G$61)+$D62*SUM(G$62)+$D63*SUM(G$63)+$D64*SUM(G$64)+$D65*SUM(G$65)+$D66*SUM(G$66)+$D67*SUM(G$67)+$D68*SUM(G$68)+$D69*SUM(G$69)+$D70*SUM(G$70)+$D71*SUM(G$71) -> 0 | H72: =$D46*SUM(H$46:H$46)+$D47*SUM(H$47:H$47)+$D48*SUM(H$48:H$48)+$D49*SUM(H$49:H$49)+$D50*SUM(H$50:H$50)+$D51*SUM(H$51)+$D52*SUM(H$52)+$D53*SUM(H$53)+$D54*SUM(H$54)+$D55*SUM(H$55)+$D56*SUM(H$56)+$D57*SUM(H$57)+$D58*SUM(H$58)+$D59*SUM(H$59)+$D60*SUM(H$60)+$D61*SUM(H$61)+$D62*SUM(H$62)+$D63*SUM(H$63)+$D64*SUM(H$64)+$D65*SUM(H$65)+$D66*SUM(H$66)+$D67*SUM(H$67)+$D68*SUM(H$68)+$D69*SUM(H$69)+$D70*SUM(H$70)+$D71*SUM(H$71) -> 0 | I72: =$D46*SUM(I$46:I$46)+$D47*SUM(I$47:I$47)+$D48*SUM(I$48:I$48)+$D49*SUM(I$49:I$49)+$D50*SUM(I$50:I$50)+$D51*SUM(I$51)+$D52*SUM(I$52)+$D53*SUM(I$53)+$D54*SUM(I$54)+$D55*SUM(I$55)+$D56*SUM(I$56)+$D57*SUM(I$57)+$D58*SUM(I$58)+$D59*SUM(I$59)+$D60*SUM(I$60)+$D61*SUM(I$61)+$D62*SUM(I$62)+$D63*SUM(I$63)+$D64*SUM(I$64)+$D65*SUM(I$65)+$D66*SUM(I$66)+$D67*SUM(I$67)+$D68*SUM(I$68)+$D69*SUM(I$69)+$D70*SUM(I$70)+$D71*SUM(I$71) -> 0 | J72: =$D46*SUM(J$46:J$46)+$D47*SUM(J$47:J$47)+$D48*SUM(J$48:J$48)+$D49*SUM(J$49:J$49)+$D50*SUM(J$50:J$50)+$D51*SUM(J$51)+$D52*SUM(J$52)+$D53*SUM(J$53)+$D54*SUM(J$54)+$D55*SUM(J$55)+$D56*SUM(J$56)+$D57*SUM(J$57)+$D58*SUM(J$58)+$D59*SUM(J$59)+$D60*SUM(J$60)+$D61*SUM(J$61)+$D62*SUM(J$62)+$D63*SUM(J$63)+$D64*SUM(J$64)+$D65*SUM(J$65)+$D66*SUM(J$66)+$D67*SUM(J$67)+$D68*SUM(J$68)+$D69*SUM(J$69)+$D70*SUM(J$70)+$D71*SUM(J$71) -> 0 | K72: =$D46*SUM(K$46:K$46)+$D47*SUM(K$47:K$47)+$D48*SUM(K$48:K$48)+$D49*SUM(K$49:K$49)+$D50*SUM(K$50:K$50)+$D51*SUM(K$51)+$D52*SUM(K$52)+$D53*SUM(K$53)+$D54*SUM(K$54)+$D55*SUM(K$55)+$D56*SUM(K$56)+$D57*SUM(K$57)+$D58*SUM(K$58)+$D59*SUM(K$59)+$D60*SUM(K$60)+$D61*SUM(K$61)+$D62*SUM(K$62)+$D63*SUM(K$63)+$D64*SUM(K$64)+$D65*SUM(K$65)+$D66*SUM(K$66)+$D67*SUM(K$67)+$D68*SUM(K$68)+$D69*SUM(K$69)+$D70*SUM(K$70)+$D71*SUM(K$71) -> 0 | L72: =$D46*SUM(L$46:L$46)+$D47*SUM(L$47:L$47)+$D48*SUM(L$48:L$48)+$D49*SUM(L$49:L$49)+$D50*SUM(L$50:L$50)+$D51*SUM(L$51)+$D52*SUM(L$52)+$D53*SUM(L$53)+$D54*SUM(L$54)+$D55*SUM(L$55)+$D56*SUM(L$56)+$D57*SUM(L$57)+$D58*SUM(L$58)+$D59*SUM(L$59)+$D60*SUM(L$60)+$D61*SUM(L$61)+$D62*SUM(L$62)+$D63*SUM(L$63)+$D64*SUM(L$64)+$D65*SUM(L$65)+$D66*SUM(L$66)+$D67*SUM(L$67)+$D68*SUM(L$68)+$D69*SUM(L$69)+$D70*SUM(L$70)+$D71*SUM(L$71) -> 0 | M72: =$D46*SUM(M$46:M$46)+$D47*SUM(M$47:M$47)+$D48*SUM(M$48:M$48)+$D49*SUM(M$49:M$49)+$D50*SUM(M$50:M$50)+$D51*SUM(M$51)+$D52*SUM(M$52)+$D53*SUM(M$53)+$D54*SUM(M$54)+$D55*SUM(M$55)+$D56*SUM(M$56)+$D57*SUM(M$57)+$D58*SUM(M$58)+$D59*SUM(M$59)+$D60*SUM(M$60)+$D61*SUM(M$61)+$D62*SUM(M$62)+$D63*SUM(M$63)+$D64*SUM(M$64)+$D65*SUM(M$65)+$D66*SUM(M$66)+$D67*SUM(M$67)+$D68*SUM(M$68)+$D69*SUM(M$69)+$D70*SUM(M$70)+$D71*SUM(M$71) -> 0 | ... R72: =$D46*SUM(R$46:R$46)+$D47*SUM(R$47:R$47)+$D48*SUM(R$48:R$48)+$D49*SUM(R$49:R$49)+$D50*SUM(R$50:R$50)+$D51*SUM(R$51)+$D52*SUM(R$52)+$D53*SUM(R$53)+$D54*SUM(R$54)+$D55*SUM(R$55)+$D56*SUM(R$56)+$D57*SUM(R$57)+$D58*SUM(R$58)+$D59*SUM(R$59)+$D60*SUM(R$60)+$D61*SUM(R$61)+$D62*SUM(R$62)+$D63*SUM(R$63)+$D64*SUM(R$64)+$D65*SUM(R$65)+$D66*SUM(R$66)+$D67*SUM(R$67)+$D68*SUM(R$68)+$D69*SUM(R$69)+$D70*SUM(R$70)+$D71*SUM(R$71) -> 0
E74: Gesamtsumme über alle Kategorien | F74: =SUM(F19,F31,F44,F72) -> 0 | G74: =SUM(G19,G31,G44,G72) -> 0 | H74: =SUM(H19,H31,H44,H72) -> 0 | I74: =SUM(I19,I31,I44,I72) -> 0 | J74: =SUM(J19,J31,J44,J72) -> 0 | K74: =SUM(K19,K31,K44,K72) -> 0 | L74: =SUM(L19,L31,L44,L72) -> 0 | M74: =SUM(M19,M31,M44,M72) -> 0 | ... R74: =SUM(R19,R31,R44,R72) -> 0
E75: Höchstpunktzahl | F75: 81 | G75: 90 | H75: 81 | I75: 72 | J75: 66 | K75: 75 | L75: 90 | M75: 90 | N75: 72 | O75: 72 | P75: 93 | Q75: 72 | R75: 87
